BEGIN:VCALENDAR
VERSION:2.0
CALSCALE:GREGORIAN
PRODID:-//Diputació de Barcelona//DibaCMS//EN
BEGIN:VEVENT
UID:6114
DTSTAMP:20260421T140616
DTSTART:20130524T000000
DTEND:20140524T000000
SUMMARY:Diumenge, concert de fi de curs dels alumnes de cant de l'Escola de Teatre de TELL
LOCATION:
METHOD:PUBLISH
X-WR-CALNAME:llagosta@llagosta.cat
X-WR-TIMEZONE:Europe/Madrid
DESCRIPTION:L'antic Centre Cultural del carrer de la Florida acollirà diumenge el final de curs dels alumnes de cant de l'Escola de Teatre de TELL. L'acte començarà a les sis de la tarda. El preu de l'entrada per veure les actuacions és d'un euro. 
URI:https://www.llagosta.cat/actualitat/noticies/diumenge-concert-de-fi-de-curs-dels-alumnes-de-cant-de-lescola-de-teatre-de-tell.html
CLASS:PUBLIC
END:VEVENT
END:VCALENDAR
