BEGIN:VCALENDAR
VERSION:2.0
CALSCALE:GREGORIAN
PRODID:-//Diputació de Barcelona//DibaCMS//EN
BEGIN:VEVENT
UID:6113
DTSTAMP:20260422T013248
DTSTART:20130524T000000
DTEND:20140524T000000
SUMMARY:La tercera preliminar del Concurs de Cante Jondo se celebrarà demà a l'antic Centre Cultural
LOCATION:
METHOD:PUBLISH
X-WR-CALNAME:llagosta@llagosta.cat
X-WR-TIMEZONE:Europe/Madrid
DESCRIPTION:Demà dissabte, tindrà lloc la tercera preliminar del Concurs de Cante Jondo Ciutat de la Llagosta, organitzat per la Casa de Andalucía. Les actuacions començaran a les vuit del vespre i es faran a l'antic Centre Cultural del carrer de la Florida.
URI:https://www.llagosta.cat/actualitat/noticies/la-tercera-preliminar-del-concurs-de-cante-jondo-se-celebrara-dema-a-lantic-centre-cultural.html
CLASS:PUBLIC
END:VEVENT
END:VCALENDAR
