BEGIN:VCALENDAR
VERSION:2.0
CALSCALE:GREGORIAN
PRODID:-//Diputació de Barcelona//DibaCMS//EN
BEGIN:VEVENT
UID:6112
DTSTAMP:20260422T033545
DTSTART:20130523T000000
DTEND:20140523T000000
SUMMARY:L'Escola de Pares i Mares organitza una xerrada sobre la creativitat per al suport a l'educació
LOCATION:
METHOD:PUBLISH
X-WR-CALNAME:llagosta@llagosta.cat
X-WR-TIMEZONE:Europe/Madrid
DESCRIPTION:L'Escola de Pares i Mares de la Llagosta organitza aquest divendres una nova xerrada. En aquesta ocasió es parlarà creativitat per al suport a l'educació. L'activitat es farà a l'Escola Gilpe a les 18 h.

URI:https://www.llagosta.cat/actualitat/noticies/lescola-de-pares-i-mares-organitza-una-xerrada-sobre-la-creativitat-per-al-suport-a-leducacio.html
CLASS:PUBLIC
END:VEVENT
END:VCALENDAR
