BEGIN:VCALENDAR
VERSION:2.0
CALSCALE:GREGORIAN
PRODID:-//Diputació de Barcelona//DibaCMS//EN
BEGIN:VEVENT
UID:6111
DTSTAMP:20260422T051750
DTSTART:20130523T000000
DTEND:20140523T000000
SUMMARY:L'Handbol Club Vallag vol crear nous equips de cara a la propera temporada
LOCATION:
METHOD:PUBLISH
X-WR-CALNAME:llagosta@llagosta.cat
X-WR-TIMEZONE:Europe/Madrid
DESCRIPTION:L'Handbol Club Vallag de la Llagosta està treballant per crear la propera temporada nous equips a la categoria infantil i completar el cadet. El club també està buscant jugadors per enfortir el sènior i el nou juvenil, que el formaran membres del cadet d'aquesta temporada. 
URI:https://www.llagosta.cat/actualitat/noticies/lhandbol-club-vallag-vol-crear-nous-equips-de-cara-a-la-propera-temporada.html
CLASS:PUBLIC
END:VEVENT
END:VCALENDAR
