BEGIN:VCALENDAR
VERSION:2.0
CALSCALE:GREGORIAN
PRODID:-//Diputació de Barcelona//DibaCMS//EN
BEGIN:VEVENT
UID:6110
DTSTAMP:20260422T122906
DTSTART:20130523T000000
DTEND:20140524T000000
SUMMARY:L'Ajuntament informa sobre l'arbitratge pel cas de les preferents de Bankia
LOCATION:
METHOD:PUBLISH
X-WR-CALNAME:llagosta@llagosta.cat
X-WR-TIMEZONE:Europe/Madrid
DESCRIPTION:L'Ajuntament de la Llagosta ofereix, des de l'Oficina d'Atenció a la Ciutadania (OAC), informació a les persones afectades pel cas de les participacions preferents i subordinades de Bankia respecte als tràmits per l'arbitratge que promou l'Agència Catalana de Consum. 
URI:https://www.llagosta.cat/actualitat/noticies/lajuntament-informa-sobre-larbitratge-pel-cas-de-les-preferents-de-bankia.html
CLASS:PUBLIC
END:VEVENT
END:VCALENDAR
