BEGIN:VCALENDAR
VERSION:2.0
CALSCALE:GREGORIAN
PRODID:-//Diputació de Barcelona//DibaCMS//EN
BEGIN:VEVENT
UID:6109
DTSTAMP:20260421T220727
DTSTART:20130522T000000
DTEND:20140522T000000
SUMMARY:L'Asociación Rociera fa un balanç molt positiu de la seva participació al Rocío
LOCATION:
METHOD:PUBLISH
X-WR-CALNAME:llagosta@llagosta.cat
X-WR-TIMEZONE:Europe/Madrid
DESCRIPTION:L'Asociación Rociera Andaluza de la Llagosta ha fet un balanç molt positiu de la celebració del Rocío. La incorporació de nous romeros i la visita de la Mare de Déu del Roser a la caseta de l'entitat han estat els fets més destacats d'aquest any.
URI:https://www.llagosta.cat/actualitat/noticies/lasociacion-rociera-fa-un-balanc-molt-positiu-de-la-seva-participacio-al-rocio.html
CLASS:PUBLIC
END:VEVENT
END:VCALENDAR
