BEGIN:VCALENDAR
VERSION:2.0
CALSCALE:GREGORIAN
PRODID:-//Diputació de Barcelona//DibaCMS//EN
BEGIN:VEVENT
UID:6108
DTSTAMP:20260421T104456
DTSTART:20130522T000000
DTEND:20140522T000000
SUMMARY:El CD La Concòrdia goleja el Teià (5-0) i acaba la lliga en quarta posició 
LOCATION:
METHOD:PUBLISH
X-WR-CALNAME:llagosta@llagosta.cat
X-WR-TIMEZONE:Europe/Madrid
DESCRIPTION:El Club Deportivo La Concòrdia ha finalitzat la lliga en quart lloc. Les de la nostra localitat han acabat la competició amb un victòria, en derrotar dissabte el Teià, el tercer classificat, per un contundent 5 a 0.
URI:https://www.llagosta.cat/actualitat/noticies/el-cd-la-concordia-goleja-el-teia-5-0-i-acaba-la-lliga-en-quarta-posicio-.html
CLASS:PUBLIC
END:VEVENT
END:VCALENDAR
