BEGIN:VCALENDAR
VERSION:2.0
CALSCALE:GREGORIAN
PRODID:-//Diputació de Barcelona//DibaCMS//EN
BEGIN:VEVENT
UID:6107
DTSTAMP:20260422T000341
DTSTART:20130522T000000
DTEND:20140522T000000
SUMMARY:L'Ajuntament ja té confeccionada la programació d'activitats d'estiu 2013
LOCATION:
METHOD:PUBLISH
X-WR-CALNAME:llagosta@llagosta.cat
X-WR-TIMEZONE:Europe/Madrid
DESCRIPTION:L'Ajuntament de la Llagosta distribuirà en els propers dies el programa d'activitats d'estiu que ha confeccionat amb la col·laboració de diverses entitats locals. Els primers actes es desenvoluparan el dia 1 de juny i els darrers, la primera setmana del mes de setembre.
URI:https://www.llagosta.cat/actualitat/noticies/lajuntament-ja-te-confeccionada-la-programacio-dactivitats-destiu-2013.html
CLASS:PUBLIC
END:VEVENT
END:VCALENDAR
