BEGIN:VCALENDAR
VERSION:2.0
CALSCALE:GREGORIAN
PRODID:-//Diputació de Barcelona//DibaCMS//EN
BEGIN:VEVENT
UID:6106
DTSTAMP:20260423T053758
DTSTART:20130521T000000
DTEND:20140521T000000
SUMMARY:Oriol Selma, del CE Fabregat, competirà en el Campionat de Catalunya de Físic-Culturisme
LOCATION:
METHOD:PUBLISH
X-WR-CALNAME:llagosta@llagosta.cat
X-WR-TIMEZONE:Europe/Madrid
DESCRIPTION:Oriol Selma, del Club Esportiu Fabregat de la Llagosta, participarà dissabte en el Campionat de Catalunya de Físic-Culturisme. La competició, organitzada per la Federació Catalana de Físic-Culturisme natural, se celebrarà a partir de les quatre de la tarda a les instal·lacions del Col·legi Maristes de Barcelona.
URI:https://www.llagosta.cat/actualitat/noticies/oriol-selma-del-ce-fabregat-competira-en-el-campionat-de-catalunya-de-fisic-culturisme.html
CLASS:PUBLIC
END:VEVENT
END:VCALENDAR
