BEGIN:VCALENDAR
VERSION:2.0
CALSCALE:GREGORIAN
PRODID:-//Diputació de Barcelona//DibaCMS//EN
BEGIN:VEVENT
UID:6105
DTSTAMP:20260423T021252
DTSTART:20130521T000000
DTEND:20140521T000000
SUMMARY:El sènior del Joventut Handbol derrota el Sabadell abans de jugar la final a quatre
LOCATION:
METHOD:PUBLISH
X-WR-CALNAME:llagosta@llagosta.cat
X-WR-TIMEZONE:Europe/Madrid
DESCRIPTION:El sènior del Joventut Handbol La Llagosta va guanyar dissabte el Sabadell per 28 a 27. Aquest era el darrer partit de la fase d'ascens a Tercera Preferent. Els de la nostra localitat, que han acabat com a líders del grup A, disputaran ara el Top 4, que decidirà qui és el campió de lliga.
URI:https://www.llagosta.cat/actualitat/noticies/el-senior-del-joventut-handbol-derrota-el-sabadell-abans-de-jugar-la-final-a-quatre.html
CLASS:PUBLIC
END:VEVENT
END:VCALENDAR
