BEGIN:VCALENDAR
VERSION:2.0
CALSCALE:GREGORIAN
PRODID:-//Diputació de Barcelona//DibaCMS//EN
BEGIN:VEVENT
UID:6104
DTSTAMP:20260422T153915
DTSTART:20130521T000000
DTEND:20140521T000000
SUMMARY:La segona Setmana del Teatre de la Llagosta se celebrarà del 7 al 16 de juny
LOCATION:
METHOD:PUBLISH
X-WR-CALNAME:llagosta@llagosta.cat
X-WR-TIMEZONE:Europe/Madrid
DESCRIPTION:L'Ajuntament de la Llagosta, Nanocosmos Teatre i el grup de teatre TELL organitzaran la segona Setmana del Teatre de la Llagosta del 7 al 16 de juny. En aquesta ocasió, l'obra professional anirà a càrrec de Berto Romero. El popular humorista actuarà a la nostra localitat el 15 de juny amb l'obra titulada Berto Romero sigue con nosotros.
URI:https://www.llagosta.cat/actualitat/noticies/la-segona-setmana-del-teatre-de-la-llagosta-se-celebrara-del-7-al-16-de-juny.html
CLASS:PUBLIC
END:VEVENT
END:VCALENDAR
