BEGIN:VCALENDAR
VERSION:2.0
CALSCALE:GREGORIAN
PRODID:-//Diputació de Barcelona//DibaCMS//EN
BEGIN:VEVENT
UID:6103
DTSTAMP:20260421T173022
DTSTART:20130520T000000
DTEND:20140529T000000
SUMMARY:La Unión Llagostense guanya el Sant Hilari i encara es pot classificar per als quarts de final
LOCATION:
METHOD:PUBLISH
X-WR-CALNAME:llagosta@llagosta.cat
X-WR-TIMEZONE:Europe/Madrid
DESCRIPTION:El primer equip del Fútbol Sala Unión Llagostense va derrotar dissabte el Sant Hilari per un clar 7 a 2 en partit corresponent a la segona jornada de la Copa Catalunya. Els llagostencs van ser molt superiors al seu rival.
URI:https://www.llagosta.cat/actualitat/noticies/la-union-llagostense-guanya-el-sant-hilari-i-encara-es-pot-classificar-per-als-quarts-de-final.html
CLASS:PUBLIC
END:VEVENT
END:VCALENDAR
