BEGIN:VCALENDAR
VERSION:2.0
CALSCALE:GREGORIAN
PRODID:-//Diputació de Barcelona//DibaCMS//EN
BEGIN:VEVENT
UID:6101
DTSTAMP:20260421T135315
DTSTART:20130520T000000
DTEND:20140520T000000
SUMMARY:El CD Viejas Glorias derrota el Joan XXIII (3-4) i suma la quarta victòria seguida
LOCATION:
METHOD:PUBLISH
X-WR-CALNAME:llagosta@llagosta.cat
X-WR-TIMEZONE:Europe/Madrid
DESCRIPTION:El Club Deportivo Viejas Glorias va sumar el cap de setmana passat la seva quarta victòria seguida. El conjunt que entrena Nito va derrotar el Joan XXIII per 3 a 4. 
URI:https://www.llagosta.cat/actualitat/noticies/el-cd-viejas-glorias-derrota-el-joan-xxiii-3-4-i-suma-la-quarta-victoria-seguida.html
CLASS:PUBLIC
END:VEVENT
END:VCALENDAR
