BEGIN:VCALENDAR
VERSION:2.0
CALSCALE:GREGORIAN
PRODID:-//Diputació de Barcelona//DibaCMS//EN
BEGIN:VEVENT
UID:6100
DTSTAMP:20260421T160425
DTSTART:20130517T000000
DTEND:20140517T000000
SUMMARY:L'Asociación Rociera de la Llagosta torna a participar al Rocio català
LOCATION:
METHOD:PUBLISH
X-WR-CALNAME:llagosta@llagosta.cat
X-WR-TIMEZONE:Europe/Madrid
DESCRIPTION:L'Asociación Rociera Andaluza de la Llagosta participarà durant aquest cap de setmana en la Romería del Rocío. La festa se celebra un any més als terrenys de Mas Duran, entre Montcada i Ripollet.
URI:https://www.llagosta.cat/actualitat/noticies/lasociacion-rociera-de-la-llagosta-torna-a-participar-al-rocio-catala.html
CLASS:PUBLIC
END:VEVENT
END:VCALENDAR
