BEGIN:VCALENDAR
VERSION:2.0
CALSCALE:GREGORIAN
PRODID:-//Diputació de Barcelona//DibaCMS//EN
BEGIN:VEVENT
UID:6099
DTSTAMP:20260422T144446
DTSTART:20130517T000000
DTEND:20140517T000000
SUMMARY:El Torneig d'Escacs AMPA Escola Gilpe manté obertes les inscripcions
LOCATION:
METHOD:PUBLISH
X-WR-CALNAME:llagosta@llagosta.cat
X-WR-TIMEZONE:Europe/Madrid
DESCRIPTION:L'AMPA de l'Escola Gilpe manté obert el període d'inscripcions per participar al tercer Torneig d'Escacs que organitza l'entitat. L'activitat es desenvoluparà el 25 de maig, a partir de les 17 h, al Centre Cultural.
URI:https://www.llagosta.cat/actualitat/noticies/el-torneig-descacs-ampa-escola-gilpe-mante-obertes-les-inscripcions.html
CLASS:PUBLIC
END:VEVENT
END:VCALENDAR
