BEGIN:VCALENDAR
VERSION:2.0
CALSCALE:GREGORIAN
PRODID:-//Diputació de Barcelona//DibaCMS//EN
BEGIN:VEVENT
UID:6098
DTSTAMP:20260421T222458
DTSTART:20130517T000000
DTEND:20140517T000000
SUMMARY:L'alcaldessa de Belmez (Còrdova), la llagostenca Aurora Rubio, visita demà la nostra localitat
LOCATION:
METHOD:PUBLISH
X-WR-CALNAME:llagosta@llagosta.cat
X-WR-TIMEZONE:Europe/Madrid
DESCRIPTION:Esquerra Unida i Alternativa de la Llagosta i Ciutadans Progressistes per La Llagosta realitzaran demà una trobada amb l'alcaldessa de la localitat cordovesa de Belmez, la llagostenca Aurora Rubio Herrador. Rubio és alcaldessa per Izquierda Unida.
URI:https://www.llagosta.cat/actualitat/noticies/lalcaldessa-de-belmez-cordova-la-llagostenca-aurora-rubio-visita-dema-la-nostra-localitat.html
CLASS:PUBLIC
END:VEVENT
END:VCALENDAR
