BEGIN:VCALENDAR
VERSION:2.0
CALSCALE:GREGORIAN
PRODID:-//Diputació de Barcelona//DibaCMS//EN
BEGIN:VEVENT
UID:6097
DTSTAMP:20260421T173616
DTSTART:20130517T000000
DTEND:20140517T000000
SUMMARY:L'EBC la Llagosta renuncia a jugar la fase de permanència a Tercera Catalana
LOCATION:
METHOD:PUBLISH
X-WR-CALNAME:llagosta@llagosta.cat
X-WR-TIMEZONE:Europe/Madrid
DESCRIPTION:El sènior de l'Esportiu Bàsquet Club de la Llagosta es retira de la competició. L'entitat ha pres aquesta decisió després de les dificultats que té per mantenir una plantilla en condicions i poder afrontar la fase de permanència a Tercera Catalana. Els llagostencs ja no es van presentar al darrer partit de la fase prèvia, que havien de disputar contra el Sant Celoni.
URI:https://www.llagosta.cat/actualitat/noticies/lebc-la-llagosta-renuncia-a-jugar-la-fase-de-permanencia-a-tercera-catalana.html
CLASS:PUBLIC
END:VEVENT
END:VCALENDAR
