BEGIN:VCALENDAR
VERSION:2.0
CALSCALE:GREGORIAN
PRODID:-//Diputació de Barcelona//DibaCMS//EN
BEGIN:VEVENT
UID:6096
DTSTAMP:20260422T060734
DTSTART:20130516T000000
DTEND:20140516T000000
SUMMARY:El sènior del Vallag perd contra el Mataró (29-31) el darrer partit de la fase d'ascens
LOCATION:
METHOD:PUBLISH
X-WR-CALNAME:llagosta@llagosta.cat
X-WR-TIMEZONE:Europe/Madrid
DESCRIPTION:El sènior de l'Handbol Club Vallag de la Llagosta va perdre el cap de setmana passat el darrer partit de lliga. Els de la nostra localitat van caure per un ajustat 29 a 31 davant del Mataró. 
URI:https://www.llagosta.cat/actualitat/noticies/el-senior-del-vallag-perd-contra-el-mataro-29-31-el-darrer-partit-de-la-fase-dascens.html
CLASS:PUBLIC
END:VEVENT
END:VCALENDAR
