BEGIN:VCALENDAR
VERSION:2.0
CALSCALE:GREGORIAN
PRODID:-//Diputació de Barcelona//DibaCMS//EN
BEGIN:VEVENT
UID:6095
DTSTAMP:20260422T092502
DTSTART:20130516T000000
DTEND:20140516T000000
SUMMARY:Ja es pot fer la preinscripció per a Batxillerat i Cicles Formatius de Grau Mitjà a l'INS Marina
LOCATION:
METHOD:PUBLISH
X-WR-CALNAME:llagosta@llagosta.cat
X-WR-TIMEZONE:Europe/Madrid
DESCRIPTION:Ja està obert el període de preinscripció a l'Institut Marina de la Llagosta per a Batxillerat i per als Cicles Formatius de Grau Mitjà del proper curs 2013-2014. El darrer dia per realitzar aquest tràmit és el 24 de maig.
URI:https://www.llagosta.cat/actualitat/noticies/ja-es-pot-fer-la-preinscripcio-per-a-batxillerat-i-cicles-formatius-de-grau-mitja-a-lins-marina.html
CLASS:PUBLIC
END:VEVENT
END:VCALENDAR
