BEGIN:VCALENDAR
VERSION:2.0
CALSCALE:GREGORIAN
PRODID:-//Diputació de Barcelona//DibaCMS//EN
BEGIN:VEVENT
UID:6094
DTSTAMP:20260421T163001
DTSTART:20130516T000000
DTEND:20140516T000000
SUMMARY:Obert el període de presentació de sol·licituds per muntar una barraca a la Festa Major 2013
LOCATION:
METHOD:PUBLISH
X-WR-CALNAME:llagosta@llagosta.cat
X-WR-TIMEZONE:Europe/Madrid
DESCRIPTION:L'Ajuntament de la Llagosta ha obert el període de presentació de sol·licituds per a aquelles entitats que vulguin muntar un bar o una barraca a l'Espai Jove o a la discoteca que hi haurà a la carpa de l'Institut Marina durant la Festa Major. Les instàncies s'han de lliurar a l'Oficina d'Atenció a la Ciutadania fins al 29 de maig.
URI:https://www.llagosta.cat/actualitat/noticies/obert-el-periode-de-presentacio-de-sollicituds-per-muntar-una-barraca-a-la-festa-major-2013.html
CLASS:PUBLIC
END:VEVENT
END:VCALENDAR
