BEGIN:VCALENDAR
VERSION:2.0
CALSCALE:GREGORIAN
PRODID:-//Diputació de Barcelona//DibaCMS//EN
BEGIN:VEVENT
UID:6093
DTSTAMP:20260422T221434
DTSTART:20130515T000000
DTEND:20140515T000000
SUMMARY:La masia de Can Piella ha estat desallotjada pels Mossos d'Esquadra
LOCATION:
METHOD:PUBLISH
X-WR-CALNAME:llagosta@llagosta.cat
X-WR-TIMEZONE:Europe/Madrid
DESCRIPTION:Els Mossos d'Esquadra han desallotjat aquest matí la masia de Can Piella. Sis dotacions de la Brigada Mòbil de la policia catalana s'han traslladat fins a la casa, situada al terme municipal de Montcada, molt a prop de la Llagosta i Santa Perpètua, per executar l'ordre judicial.
URI:https://www.llagosta.cat/actualitat/noticies/la-masia-de-can-piella-ha-estat-desallotjada-pels-mossos-desquadra.html
CLASS:PUBLIC
END:VEVENT
END:VCALENDAR
