BEGIN:VCALENDAR
VERSION:2.0
CALSCALE:GREGORIAN
PRODID:-//Diputació de Barcelona//DibaCMS//EN
BEGIN:VEVENT
UID:6092
DTSTAMP:20260423T052815
DTSTART:20130515T000000
DTEND:20140515T000000
SUMMARY:L'alcalde participa en una tertúlia amb estudiants de quart d'ESO de l'Institut Balmes
LOCATION:
METHOD:PUBLISH
X-WR-CALNAME:llagosta@llagosta.cat
X-WR-TIMEZONE:Europe/Madrid
DESCRIPTION:L'alcalde de la Llagosta, Alberto López, ha participat aquest matí en una tertúlia amb alumnes de quart d'ESO de l'Institut Balmes. La trobada ha tingut lloc en una de les aules d'aquest centre educatiu de la nostra localitat. 
URI:https://www.llagosta.cat/actualitat/noticies/lalcalde-participa-en-una-tertulia-amb-estudiants-de-quart-deso-de-linstitut-balmes.html
CLASS:PUBLIC
END:VEVENT
END:VCALENDAR
