BEGIN:VCALENDAR
VERSION:2.0
CALSCALE:GREGORIAN
PRODID:-//Diputació de Barcelona//DibaCMS//EN
BEGIN:VEVENT
UID:6091
DTSTAMP:20260422T123816
DTSTART:20130515T000000
DTEND:20140514T000000
SUMMARY:Oberta la inscripció per a l'activitat Els Sabors de la Llagosta de dijous 23 de maig
LOCATION:
METHOD:PUBLISH
X-WR-CALNAME:llagosta@llagosta.cat
X-WR-TIMEZONE:Europe/Madrid
DESCRIPTION:Ja es poden fer les inscripcions al Casal Infantil o a la Biblioteca de la Llagosta per participar a l'activitat Els Sabors de la Llagosta. Parelles culinàries i concurs de cuina freda. La proposta es desenvoluparà el dijous 23 de maig a dos quarts de sis de la tarda a la plaça d'Antoni Baqué.
URI:https://www.llagosta.cat/actualitat/noticies/oberta-la-inscripcio-per-a-lactivitat-els-sabors-de-la-llagosta-de-dijous-23-de-maig.html
CLASS:PUBLIC
END:VEVENT
END:VCALENDAR
