BEGIN:VCALENDAR
VERSION:2.0
CALSCALE:GREGORIAN
PRODID:-//Diputació de Barcelona//DibaCMS//EN
BEGIN:VEVENT
UID:6090
DTSTAMP:20260421T122833
DTSTART:20130515T000000
DTEND:20140515T000000
SUMMARY:El CD La Concòrdia goleja el Castelldefels abans d'acabar la lliga contra el Teià
LOCATION:
METHOD:PUBLISH
X-WR-CALNAME:llagosta@llagosta.cat
X-WR-TIMEZONE:Europe/Madrid
DESCRIPTION:El Club Deportivo La Concòrdia finalitzarà la lliga el proper cap de setmana rebent la visita del Teià. Les de la nostra localitat van guanyar la jornada passada el cuer de la competició, el Castelldefels B, per 2 a 9. 
URI:https://www.llagosta.cat/actualitat/noticies/el-cd-la-concordia-goleja-el-castelldefels-abans-dacabar-la-lliga-contra-el-teia.html
CLASS:PUBLIC
END:VEVENT
END:VCALENDAR
