BEGIN:VCALENDAR
VERSION:2.0
CALSCALE:GREGORIAN
PRODID:-//Diputació de Barcelona//DibaCMS//EN
BEGIN:VEVENT
UID:6089
DTSTAMP:20260421T210427
DTSTART:20130515T000000
DTEND:20140515T000000
SUMMARY:Els volats i els saltats, dues noves colles per a la Festa Major 2013 de la Llagosta
LOCATION:
METHOD:PUBLISH
X-WR-CALNAME:llagosta@llagosta.cat
X-WR-TIMEZONE:Europe/Madrid
DESCRIPTION:La Festa Major 2013 de la Llagosta comptarà amb dues noves colles, els Volats i els Saltats, que competiran en una sèrie d'activitats que portaran el nom genèric de l'Engrescada. La proposta va sorgir del si de la Comissió Jove de la Festa Major i compta amb el vistiplau de l'equip de govern municipal.
URI:https://www.llagosta.cat/actualitat/noticies/els-volats-i-els-saltats-dues-noves-colles-per-a-la-festa-major-2013-de-la-llagosta.html
CLASS:PUBLIC
END:VEVENT
END:VCALENDAR
