BEGIN:VCALENDAR
VERSION:2.0
CALSCALE:GREGORIAN
PRODID:-//Diputació de Barcelona//DibaCMS//EN
BEGIN:VEVENT
UID:6088
DTSTAMP:20260422T035458
DTSTART:20130514T000000
DTEND:20140514T000000
SUMMARY:El sènior del Joventut Handbol La Llagosta aconsegueix l'ascens a Tercera Preferent
LOCATION:
METHOD:PUBLISH
X-WR-CALNAME:llagosta@llagosta.cat
X-WR-TIMEZONE:Europe/Madrid
DESCRIPTION:El sènior del Joventut Handbol La Llagosta ja és equip de Tercera Preferent. Els llagostencs han aconseguit l'ascens matemàtic després de guanyar el cap de setmana passat per 28 a 32 el Garbí de Palafrugell. 
URI:https://www.llagosta.cat/actualitat/noticies/el-senior-del-joventut-handbol-la-llagosta-aconsegueix-lascens-a-tercera-preferent.html
CLASS:PUBLIC
END:VEVENT
END:VCALENDAR
