BEGIN:VCALENDAR
VERSION:2.0
CALSCALE:GREGORIAN
PRODID:-//Diputació de Barcelona//DibaCMS//EN
BEGIN:VEVENT
UID:6087
DTSTAMP:20260421T122010
DTSTART:20130514T000000
DTEND:20140514T000000
SUMMARY:Obert el període d'inscripcions per participar al Campus d'Estiu del CEM El Turó
LOCATION:
METHOD:PUBLISH
X-WR-CALNAME:llagosta@llagosta.cat
X-WR-TIMEZONE:Europe/Madrid
DESCRIPTION:El Complex Esportiu Municipal El Turó ha obert el període d'inscripcions per participar en el Campus d'Estiu adreçat a infants de tres a catorze anys, que organitzarà entre el 25 de juny i el 6 de setembre. Durant el Campus, es desenvoluparan activitats esportives, jocs aquàtics i tradicionals i excursions.
URI:https://www.llagosta.cat/actualitat/noticies/obert-el-periode-dinscripcions-per-participar-al-campus-destiu-del-cem-el-turo.html
CLASS:PUBLIC
END:VEVENT
END:VCALENDAR
