BEGIN:VCALENDAR
VERSION:2.0
CALSCALE:GREGORIAN
PRODID:-//Diputació de Barcelona//DibaCMS//EN
BEGIN:VEVENT
UID:6086
DTSTAMP:20260421T220859
DTSTART:20130514T000000
DTEND:20140514T000000
SUMMARY:La Llagosta + Activa va recaptar 500 euros amb el concert solidari de diumenge
LOCATION:
METHOD:PUBLISH
X-WR-CALNAME:llagosta@llagosta.cat
X-WR-TIMEZONE:Europe/Madrid
DESCRIPTION:Un centenar de persones van assistir diumenge al concert que va organitzar al Centre Cultural l'entitat La Llagosta + Activa en el marc de les primeres Jornades Solidàries de la nostra localitat. Amb aquest acte, es van receptar 500 euros, que es destinaran íntegrament al projecte Malària 40.
URI:https://www.llagosta.cat/actualitat/noticies/la-llagosta--activa-va-recaptar-500-euros-amb-el-concert-solidari-de-diumenge.html
CLASS:PUBLIC
END:VEVENT
END:VCALENDAR
