BEGIN:VCALENDAR
VERSION:2.0
CALSCALE:GREGORIAN
PRODID:-//Diputació de Barcelona//DibaCMS//EN
BEGIN:VEVENT
UID:6085
DTSTAMP:20260421T174331
DTSTART:20130514T000000
DTEND:20140514T000000
SUMMARY:El primer equip de la Unión Llagostense perd contra el Bar Terraza-Alcalà (4-5)
LOCATION:
METHOD:PUBLISH
X-WR-CALNAME:llagosta@llagosta.cat
X-WR-TIMEZONE:Europe/Madrid
DESCRIPTION:El primer equip del Fútbol Sala Unión Llagostense va començar el cap de setmana passat la seva participació a la Copa Catalunya amb una derrota a casa contra el Bar Terraza-Alcalà per 4 a 5. En l'altre partit del grup, el Sant Hilari va guanyar el Sansur B per 7 a 3.
URI:https://www.llagosta.cat/actualitat/noticies/el-primer-equip-de-la-union-llagostense-perd-contra-el-bar-terraza-alcala-4-5.html
CLASS:PUBLIC
END:VEVENT
END:VCALENDAR
