BEGIN:VCALENDAR
VERSION:2.0
CALSCALE:GREGORIAN
PRODID:-//Diputació de Barcelona//DibaCMS//EN
BEGIN:VEVENT
UID:6084
DTSTAMP:20260421T122128
DTSTART:20130513T000000
DTEND:20140513T000000
SUMMARY:Un veí de Còrdova guanyar el vintè Concurs de Fotografia Dia Internacional de les Dones
LOCATION:
METHOD:PUBLISH
X-WR-CALNAME:llagosta@llagosta.cat
X-WR-TIMEZONE:Europe/Madrid
DESCRIPTION:José Lara, de Còrdova, ha estat el guanyador del vintè Concurs de Fotografia Dia Internacional de les Dones, organitzat pel Foto-Club La Llagosta amb la col·laboració de l'Ajuntament de la nostra localitat. El veredicte del jurat i el lliurament de premis es va fer divendres al Centre Cultural.
URI:https://www.llagosta.cat/actualitat/noticies/un-vei-de-cordova-guanyar-el-vinte-concurs-de-fotografia-dia-internacional-de-les-dones.html
CLASS:PUBLIC
END:VEVENT
END:VCALENDAR
