BEGIN:VCALENDAR
VERSION:2.0
CALSCALE:GREGORIAN
PRODID:-//Diputació de Barcelona//DibaCMS//EN
BEGIN:VEVENT
UID:6083
DTSTAMP:20260421T141553
DTSTART:20130513T000000
DTEND:20140513T000000
SUMMARY:Els alumnes de quart de l'Escola Les Planes han visitat avui l'Ajuntament de la Llagosta
LOCATION:
METHOD:PUBLISH
X-WR-CALNAME:llagosta@llagosta.cat
X-WR-TIMEZONE:Europe/Madrid
DESCRIPTION:Les dues classes de quart de l'Escola Les Planes han visitat aquest matí l'Ajuntament de la Llagosta. Els alumnes han estat acompanyats per l'alcalde, Alberto López, durant la seva estada en dependències municipals. 
URI:https://www.llagosta.cat/actualitat/noticies/els-alumnes-de-quart-de-lescola-les-planes-han-visitat-avui-lajuntament-de-la-llagosta.html
CLASS:PUBLIC
END:VEVENT
END:VCALENDAR
