BEGIN:VCALENDAR
VERSION:2.0
CALSCALE:GREGORIAN
PRODID:-//Diputació de Barcelona//DibaCMS//EN
BEGIN:VEVENT
UID:6082
DTSTAMP:20260421T122738
DTSTART:20130513T000000
DTEND:20140513T000000
SUMMARY:La Llagosta va celebrar durant el cap de setmana la Fira de Sant Ponç
LOCATION:
METHOD:PUBLISH
X-WR-CALNAME:llagosta@llagosta.cat
X-WR-TIMEZONE:Europe/Madrid
DESCRIPTION:Durant tot el cap de setmana, l'avinguda de l'Onze de Setembre ha acollit la Fira de Sant Ponç de la Llagosta. Un bon nombre de visitants ha pogut passejar entre les 35 parades d'artesans i venedors de productes tradicionals que es van instal·lar al passeig. Dissabte, també van prendre-hi part una desena d'entitats de la nostra localitat.
URI:https://www.llagosta.cat/actualitat/noticies/la-llagosta-va-celebrar-durant-el-cap-de-setmana-la-fira-de-sant-ponc.html
CLASS:PUBLIC
END:VEVENT
END:VCALENDAR
