BEGIN:VCALENDAR
VERSION:2.0
CALSCALE:GREGORIAN
PRODID:-//Diputació de Barcelona//DibaCMS//EN
BEGIN:VEVENT
UID:6081
DTSTAMP:20260421T140421
DTSTART:20130513T000000
DTEND:20140516T000000
SUMMARY:Estudiants de l'Escola Gilpe participen demà a l'English Day a un centre educatiu de Mollet
LOCATION:
METHOD:PUBLISH
X-WR-CALNAME:llagosta@llagosta.cat
X-WR-TIMEZONE:Europe/Madrid
DESCRIPTION:Els alumnes de segon de l'Escola Gilpe de la Llagosta participaran demà a l’English Day 2013. Aquesta activitat posarà el punt final a l'intercanvi d'escolars en llengua anglesa de diferents centres de la nostra comarca.
URI:https://www.llagosta.cat/actualitat/noticies/estudiants-de-lescola-gilpe-participen-dema-a-lenglish-day-a-un-centre-educatiu-de-mollet.html
CLASS:PUBLIC
END:VEVENT
END:VCALENDAR
