BEGIN:VCALENDAR
VERSION:2.0
CALSCALE:GREGORIAN
PRODID:-//Diputació de Barcelona//DibaCMS//EN
BEGIN:VEVENT
UID:6080
DTSTAMP:20260422T004157
DTSTART:20130513T000000
DTEND:20140513T000000
SUMMARY:El Viejas Glorias guanya el Llano per 2 a 1 i suma la tercera victòria seguida
LOCATION:
METHOD:PUBLISH
X-WR-CALNAME:llagosta@llagosta.cat
X-WR-TIMEZONE:Europe/Madrid
DESCRIPTION:El Club Deportivo Viejas Glorias va derrotar dissabte el Llano a casa per 2 a 1 i va sumar la tercera victòria seguida. Els llagostencs estan en ratxa i estan protagonitzant un gran final de lliga.
URI:https://www.llagosta.cat/actualitat/noticies/el-viejas-glorias-guanya-el-llano-per-2-a-1-i-suma-la-tercera-victoria-seguida.html
CLASS:PUBLIC
END:VEVENT
END:VCALENDAR
