BEGIN:VCALENDAR
VERSION:2.0
CALSCALE:GREGORIAN
PRODID:-//Diputació de Barcelona//DibaCMS//EN
BEGIN:VEVENT
UID:6079
DTSTAMP:20260422T033606
DTSTART:20130513T000000
DTEND:20140513T000000
SUMMARY:Una cinquantena de persones a la caminada del Dia Mundial de la Fibromiàlgia
LOCATION:
METHOD:PUBLISH
X-WR-CALNAME:llagosta@llagosta.cat
X-WR-TIMEZONE:Europe/Madrid
DESCRIPTION:Una cinquantena de persones van participar ahir a la caminada reivindicativa del Dia Mundial de la Fibromiàlgia i la Síndrome de Fatiga Crònica. L'acte va ser organitzat per AFIMOIC, l'associació que aplega les persones que pateixen aquesta malaltia a la nostra comarca. 
URI:https://www.llagosta.cat/actualitat/noticies/una-cinquantena-de-persones-a-la-caminada-del-dia-mundial-de-la-fibromialgia.html
CLASS:PUBLIC
END:VEVENT
END:VCALENDAR
