BEGIN:VCALENDAR
VERSION:2.0
CALSCALE:GREGORIAN
PRODID:-//Diputació de Barcelona//DibaCMS//EN
BEGIN:VEVENT
UID:6078
DTSTAMP:20260421T122304
DTSTART:20130510T000000
DTEND:20140510T000000
SUMMARY:Diumenge, Dia Mundial de la Fibromiàlgia i la Síndrome de Fatiga Crònica
LOCATION:
METHOD:PUBLISH
X-WR-CALNAME:llagosta@llagosta.cat
X-WR-TIMEZONE:Europe/Madrid
DESCRIPTION:Diumenge, 12 de maig, és el Dia Mundial de la Fibromiàlgia i la Síndrome de Fatiga Crònica. A la Llagosta, l'Associació de Fibromiàlgia de Mollet i comarca (AFIMOIC)tornarà a organitzar un acte per commemorar aquesta jornada.
URI:https://www.llagosta.cat/actualitat/noticies/diumenge-dia-mundial-de-la-fibromialgia-i-la-sindrome-de-fatiga-cronica.html
CLASS:PUBLIC
END:VEVENT
END:VCALENDAR
