BEGIN:VCALENDAR
VERSION:2.0
CALSCALE:GREGORIAN
PRODID:-//Diputació de Barcelona//DibaCMS//EN
BEGIN:VEVENT
UID:6077
DTSTAMP:20260421T192453
DTSTART:20130510T000000
DTEND:20140510T000000
SUMMARY:El sènior del Vallag acabarà la temporada demà amb el partit contra el Mataró
LOCATION:
METHOD:PUBLISH
X-WR-CALNAME:llagosta@llagosta.cat
X-WR-TIMEZONE:Europe/Madrid
DESCRIPTION:El sènior de l'Handbol Club Vallag de la Llagosta rebrà demà la visita del Mataró. Aquest és el darrer partit de la temporada. Els llagostencs van perdre la jornada passada contra el l'OAR Gràcia de Sabadell per 41 a 23.
URI:https://www.llagosta.cat/actualitat/noticies/el-senior-del-vallag-acabara-la-temporada-dema-amb-el-partit-contra-el-mataro.html
CLASS:PUBLIC
END:VEVENT
END:VCALENDAR
