BEGIN:VCALENDAR
VERSION:2.0
CALSCALE:GREGORIAN
PRODID:-//Diputació de Barcelona//DibaCMS//EN
BEGIN:VEVENT
UID:6076
DTSTAMP:20260422T151149
DTSTART:20130510T000000
DTEND:20140510T000000
SUMMARY:La Fira de Sant Ponç tindrà lloc aquest cap de setmana a l'avinguda de l'Onze de Setembre
LOCATION:
METHOD:PUBLISH
X-WR-CALNAME:llagosta@llagosta.cat
X-WR-TIMEZONE:Europe/Madrid
DESCRIPTION:La Fira de Sant Ponç torna aquest any al passeig de l'avinguda de l'Onze de Setembre, després que l'anterior edició se celebrés al Parc Popular. Durant tot el cap de setmana, la Fira comptarà amb 35 parades d'artesans i venedors de productes tradicionals. Demà dissabte, deu entitats locals hi instal·laran els seus estands.
URI:https://www.llagosta.cat/actualitat/noticies/la-fira-de-sant-ponc-tindra-lloc-aquest-cap-de-setmana-a-lavinguda-de-lonze-de-setembre.html
CLASS:PUBLIC
END:VEVENT
END:VCALENDAR
