BEGIN:VCALENDAR
VERSION:2.0
CALSCALE:GREGORIAN
PRODID:-//Diputació de Barcelona//DibaCMS//EN
BEGIN:VEVENT
UID:6075
DTSTAMP:20260423T001642
DTSTART:20130510T000000
DTEND:20140510T000000
SUMMARY:Demà, se celebrarà una cercavila en contra del desallotjament de la masia de Can Piella
LOCATION:
METHOD:PUBLISH
X-WR-CALNAME:llagosta@llagosta.cat
X-WR-TIMEZONE:Europe/Madrid
DESCRIPTION:L'Associació per la conservació de la Piella, amb el suport de diverses entitats, organitza demà una cercavila reivindicativa pels carrers de Montcada i Reixac. La mobilització contra el desallotjament de la masia de Can Piella, previst per a la segona quinzena d'aquest mes de maig, començarà a les sis de la tarda. 
URI:https://www.llagosta.cat/actualitat/noticies/dema-se-celebrara-una-cercavila-en-contra-del-desallotjament-de-la-masia-de-can-piella.html
CLASS:PUBLIC
END:VEVENT
END:VCALENDAR
