BEGIN:VCALENDAR
VERSION:2.0
CALSCALE:GREGORIAN
PRODID:-//Diputació de Barcelona//DibaCMS//EN
BEGIN:VEVENT
UID:6074
DTSTAMP:20260422T004726
DTSTART:20130510T000000
DTEND:20140510T000000
SUMMARY:Un concert organitzat per La Llagosta + Activa, darrer acte de les primeres Jornades Solidàries
LOCATION:
METHOD:PUBLISH
X-WR-CALNAME:llagosta@llagosta.cat
X-WR-TIMEZONE:Europe/Madrid
DESCRIPTION:La Llagosta + Activa organitzarà diumenge un concert en el marc de les primeres Jornades Solidàries de la nostra localitat. El preu de l'entrada és de cinc euros i els diners que es recaptin es destinaran a la lluita contra la malària.
URI:https://www.llagosta.cat/actualitat/noticies/un-concert-organitzat-per-la-llagosta--activa-darrer-acte-de-les-primeres-jornades-solidaries.html
CLASS:PUBLIC
END:VEVENT
END:VCALENDAR
