BEGIN:VCALENDAR
VERSION:2.0
CALSCALE:GREGORIAN
PRODID:-//Diputació de Barcelona//DibaCMS//EN
BEGIN:VEVENT
UID:6073
DTSTAMP:20260422T042046
DTSTART:20130509T000000
DTEND:20140509T000000
SUMMARY:El veredicte del Concurs Fotogràfic Dia Internacional de les Dones 2013 es coneixerà demà
LOCATION:
METHOD:PUBLISH
X-WR-CALNAME:llagosta@llagosta.cat
X-WR-TIMEZONE:Europe/Madrid
DESCRIPTION:El Centre Cultural de la Llagosta acollirà demà el veredicte del jurat i el lliurament de premis del Concurs de Fotografia Dia Internacional de les Dones 2013. L'acte, organitzat pel Foto-Club La Llagosta i l'Ajuntament, començarà a les set de la tarda.
URI:https://www.llagosta.cat/actualitat/noticies/el-veredicte-del-concurs-fotografic-dia-internacional-de-les-dones-2013-es-coneixera-dema.html
CLASS:PUBLIC
END:VEVENT
END:VCALENDAR
