BEGIN:VCALENDAR
VERSION:2.0
CALSCALE:GREGORIAN
PRODID:-//Diputació de Barcelona//DibaCMS//EN
BEGIN:VEVENT
UID:6072
DTSTAMP:20260423T145309
DTSTART:20130509T000000
DTEND:20140509T000000
SUMMARY:Seguiment desigual de la vaga d'ensenyament als centres educatius de la Llagosta
LOCATION:
METHOD:PUBLISH
X-WR-CALNAME:llagosta@llagosta.cat
X-WR-TIMEZONE:Europe/Madrid
DESCRIPTION:La vaga general d'ensenyament no té un seguiment massiu a la Llagosta. La mitjana de professors que han secundat la convocatòria d'aquest dijous és d'un 26% als centres públics. El percentatge d'alumnes que han faltat a classe aquest matí ha estat d'un 76%.
URI:https://www.llagosta.cat/actualitat/noticies/seguiment-desigual-de-la-vaga-densenyament-als-centres-educatius-de-la-llagosta.html
CLASS:PUBLIC
END:VEVENT
END:VCALENDAR
