BEGIN:VCALENDAR
VERSION:2.0
CALSCALE:GREGORIAN
PRODID:-//Diputació de Barcelona//DibaCMS//EN
BEGIN:VEVENT
UID:6071
DTSTAMP:20260422T140947
DTSTART:20130509T000000
DTEND:20140509T000000
SUMMARY:El conjunt sènior de l'EBC juga el darrer partit de la fase regular a la pista del Sant Celoni
LOCATION:
METHOD:PUBLISH
X-WR-CALNAME:llagosta@llagosta.cat
X-WR-TIMEZONE:Europe/Madrid
DESCRIPTION:El sènior de l'Esportiu Bàsquet Club de la Llagosta acabarà el cap de setmana la fase prèvia de la competició a la pista del Sant Celoni, el segon classificat. Els de la nostra localitat van tornar a perdre la jornada passada. En aquesta ocasió, contra el Roda, per 47 a 56.
URI:https://www.llagosta.cat/actualitat/noticies/el-conjunt-senior-de-lebc-juga-el-darrer-partit-de-la-fase-regular-a-la-pista-del-sant-celoni.html
CLASS:PUBLIC
END:VEVENT
END:VCALENDAR
