BEGIN:VCALENDAR
VERSION:2.0
CALSCALE:GREGORIAN
PRODID:-//Diputació de Barcelona//DibaCMS//EN
BEGIN:VEVENT
UID:6070
DTSTAMP:20260422T043313
DTSTART:20130509T000000
DTEND:20140509T000000
SUMMARY:La Casa de Andalucía celebrarà la Cruz de mayo i la segona preliminar del concurs de cante
LOCATION:
METHOD:PUBLISH
X-WR-CALNAME:llagosta@llagosta.cat
X-WR-TIMEZONE:Europe/Madrid
DESCRIPTION:La Casa de Andalucía de la Llagosta celebrarà diumenge la festa de la Cruz de mayo. A un quart d'una, tindrà lloc una missa a l'Església de Sant Josep. Durant aquest acte, es recolliran aliments per a famílies necessitades de la nostra localitat.
URI:https://www.llagosta.cat/actualitat/noticies/la-casa-de-andalucia-celebrara-la-cruz-de-mayo-i-la-segona-preliminar-del-concurs-de-cante.html
CLASS:PUBLIC
END:VEVENT
END:VCALENDAR
