BEGIN:VCALENDAR
VERSION:2.0
CALSCALE:GREGORIAN
PRODID:-//Diputació de Barcelona//DibaCMS//EN
BEGIN:VEVENT
UID:6069
DTSTAMP:20260422T082616
DTSTART:20130509T000000
DTEND:20140509T000000
SUMMARY:Alborada porta dissabte a la Llagosta l'obra No me lo puedo creer, del grup Zarabanda
LOCATION:
METHOD:PUBLISH
X-WR-CALNAME:llagosta@llagosta.cat
X-WR-TIMEZONE:Europe/Madrid
DESCRIPTION:L'Agrupación Cultural Galega Alborada portarà dissabte al Centre Cultural al grup de teatre Zarabanda, que interpretarà l'obra No me lo puedo creer. La representació de l'obra començarà a les set de la tarda. 
URI:https://www.llagosta.cat/actualitat/noticies/alborada-porta-dissabte-a-la-llagosta-lobra-no-me-lo-puedo-creer-del-grup-zarabanda.html
CLASS:PUBLIC
END:VEVENT
END:VCALENDAR
