BEGIN:VCALENDAR
VERSION:2.0
CALSCALE:GREGORIAN
PRODID:-//Diputació de Barcelona//DibaCMS//EN
BEGIN:VEVENT
UID:6068
DTSTAMP:20260422T113742
DTSTART:20130508T000000
DTEND:20140508T000000
SUMMARY:Demà, convocada jornada de vaga general a l'ensenyament a tot l'Estat 
LOCATION:
METHOD:PUBLISH
X-WR-CALNAME:llagosta@llagosta.cat
X-WR-TIMEZONE:Europe/Madrid
DESCRIPTION:Els sindicats de professorat i d'alumnes han convocat per a aquest dijous, 9 de maig, una vaga general estatal a l'ensenyament. La convocatòria compta amb el suport de la Federació d'Associacions de Pares i Mares d'Alumnes de Catalunya i del Marc Unitari de la Comunitat Educativa.  
URI:https://www.llagosta.cat/actualitat/noticies/dema-convocada-jornada-de-vaga-general-a-lensenyament-a-tot-lestat-.html
CLASS:PUBLIC
END:VEVENT
END:VCALENDAR
