BEGIN:VCALENDAR
VERSION:2.0
CALSCALE:GREGORIAN
PRODID:-//Diputació de Barcelona//DibaCMS//EN
BEGIN:VEVENT
UID:6067
DTSTAMP:20260423T014949
DTSTART:20130508T000000
DTEND:20140508T000000
SUMMARY:Demà, xerrada a la Sala de Plens de l'Ajuntament a càrrec del Cercle Català de Negocis
LOCATION:
METHOD:PUBLISH
X-WR-CALNAME:llagosta@llagosta.cat
X-WR-TIMEZONE:Europe/Madrid
DESCRIPTION:La Sala de Plens de l'Ajuntament de la Llagosta acollirà demà una conferència col·loqui sobre el futur econòmic de Catalunya. La xerrada anirà a càrrec del Cercle Català de Negocis. L'acte començarà a les set de la tarda.
URI:https://www.llagosta.cat/actualitat/noticies/dema-xerrada-a-la-sala-de-plens-de-lajuntament-a-carrec-del-cercle-catala-de-negocis.html
CLASS:PUBLIC
END:VEVENT
END:VCALENDAR
