BEGIN:VCALENDAR
VERSION:2.0
CALSCALE:GREGORIAN
PRODID:-//Diputació de Barcelona//DibaCMS//EN
BEGIN:VEVENT
UID:6066
DTSTAMP:20260422T170007
DTSTART:20130508T000000
DTEND:20140508T000000
SUMMARY:El CD La Concòrdia empata (2-2) contra el Castellbisbal i ocupa la cinquena posició
LOCATION:
METHOD:PUBLISH
X-WR-CALNAME:llagosta@llagosta.cat
X-WR-TIMEZONE:Europe/Madrid
DESCRIPTION:El Club Deportivo La Concòrdia va empatar el cap de setmana passat a dos gols contra el Castellbisbal en un partit que va ser ajornat en el seu dia. Les de la nostra localitat van arribar a dominar per 2 a 0 amb gols d'Estefa i Cintia, però les visitants van reaccionar i van acabar empatant.
URI:https://www.llagosta.cat/actualitat/noticies/el-cd-la-concordia-empata-2-2-contra-el-castellbisbal-i-ocupa-la-cinquena-posicio.html
CLASS:PUBLIC
END:VEVENT
END:VCALENDAR
