BEGIN:VCALENDAR
VERSION:2.0
CALSCALE:GREGORIAN
PRODID:-//Diputació de Barcelona//DibaCMS//EN
BEGIN:VEVENT
UID:6065
DTSTAMP:20260422T080034
DTSTART:20130508T000000
DTEND:20140508T000000
SUMMARY:Els gegants de la Llagosta aniran diumenge a la Ciutat Gegantera de Catalunya a Calella
LOCATION:
METHOD:PUBLISH
X-WR-CALNAME:llagosta@llagosta.cat
X-WR-TIMEZONE:Europe/Madrid
DESCRIPTION:La Colla Gegantera de la Llagosta participarà diumenge en la 28a Ciutat Gegantera de Catalunya, que tindrà lloc a Calella. La intenció dels responsables de l'entitat és portar a aquesta activitat els tres gegants de la nostra localitat. 
URI:https://www.llagosta.cat/actualitat/noticies/els-gegants-de-la-llagosta-aniran-diumenge-a-la-ciutat-gegantera-de-catalunya-a-calella.html
CLASS:PUBLIC
END:VEVENT
END:VCALENDAR
