BEGIN:VCALENDAR
VERSION:2.0
CALSCALE:GREGORIAN
PRODID:-//Diputació de Barcelona//DibaCMS//EN
BEGIN:VEVENT
UID:6064
DTSTAMP:20260422T060105
DTSTART:20130507T000000
DTEND:20140507T000000
SUMMARY:La Llagosta ha acollit avui una trobada amb una delegació d'alcaldes del Marroc
LOCATION:
METHOD:PUBLISH
X-WR-CALNAME:llagosta@llagosta.cat
X-WR-TIMEZONE:Europe/Madrid
DESCRIPTION:Una delegació d'alcaldes de la xarxa de ciutats estratègiques de la regió Tànger-Tetuan del Marroc ha conegut avui de primera mà els detalls del projecte econòmic Suem la samarreta, ens mullem contra l'atur, impulsat per l'Ajuntament de la Llagosta. Els alcaldes marroquins han visitat la nostra població i han participat en una jornada de treball organitzada per la Diputació de Barcelona i el Fons Català de Cooperació en el marc de la Plataforma Localmed-Marroc.
URI:https://www.llagosta.cat/actualitat/noticies/la-llagosta-ha-acollit-avui-una-trobada-amb-una-delegacio-dalcaldes-del-marroc.html
CLASS:PUBLIC
END:VEVENT
END:VCALENDAR
